BEGIN:VCALENDAR
VERSION:2.0
PRODID:-//wp-events-plugin.com//7.2.3.1//EN
TZID:Europe/Berlin
X-WR-TIMEZONE:Europe/Berlin
BEGIN:VEVENT
UID:2136@veedelnippes.de
DTSTART;TZID=Europe/Berlin:20250424T180000
DTEND;TZID=Europe/Berlin:20250424T200000
DTSTAMP:20260104T195551Z
URL:https://veedelnippes.de/events/stammtisch-franzoesisch-2025-04-24/
SUMMARY:[AWO] Stammtisch Französisch
DESCRIPTION:Konversation auf Französisch zu unterschiedlichen Themen.\n\nH
 inweise:\nAnmeldung zu allen Beratungen\nund Veranstaltungen im\nAWO Treff
  oder per Mail:\nnippes@awo-koeln.de\n\nAlle Angebote sind offen für AWO 
 Mitglieder und die\, die es werden wollen. Vorab ist ein Schnuppern und Ke
 nnenlernen willkommen. Eine Mitgliedschaft kostet im Monat ab 2\,50 € f
 ür eine\nEinzelmitgliedschaft und 4\,00 € für eine Familienmitgliedsch
 aft.\nNeben der Teilnahme an den unterschiedlichen Aktivitäten\nunterstü
 tzen Sie mit Ihrem Beitrag die Arbeit der AWO Köln.\nInformationen und An
 träge gibt es im Begegnungsraum.\n
CATEGORIES:AWO Treff Nippes
LOCATION:AWO Treff Nippes\, Christinastr. 31\, Köln\, Deutschland
X-APPLE-STRUCTURED-LOCATION;VALUE=URI;X-ADDRESS=Christinastr. 31\, Köln\, 
 Deutschland;X-APPLE-RADIUS=100;X-TITLE=AWO Treff Nippes:geo:0,0
END:VEVENT
BEGIN:VTIMEZONE
TZID:Europe/Berlin
X-LIC-LOCATION:Europe/Berlin
BEGIN:DAYLIGHT
DTSTART:20250330T030000
TZOFFSETFROM:+0100
TZOFFSETTO:+0200
TZNAME:CEST
END:DAYLIGHT
END:VTIMEZONE
END:VCALENDAR